BEGIN:VCALENDAR
VERSION:2.0
PRODID:-//wp-events-plugin.com//7.2.3.1//EN
TZID:Europe/Brussels
X-WR-TIMEZONE:Europe/Brussels
BEGIN:VEVENT
UID:18@predon.be
DTSTART;TZID=Europe/Brussels:20220419T090000
DTEND;TZID=Europe/Brussels:20220419T163000
DTSTAMP:20211018T182127Z
URL:https://predon.be/events/module-les-abris-de-la-faune-premiere-partie/
SUMMARY:Module Les abris de la faune (première partie)
DESCRIPTION:Ce module de formation nous permet de mieux comprendre le rôle
  et l'intérêt des abris pour la faune et comment les intégrer dans nos 
 espaces vitaux.\n\nThéorie et pratique sur le terrain se conjuguent de ma
 nière équilibrée.\n\n 	La première journée se déroule au printemps\,
  la deuxième au début de l'été.\n 	La formation débute à 9h00 au Pr
 é Don et se termine à 16h30.\n 	Un support de cours est fourni (cahier "
 AFDon").\n 	Le coût est de 70 euros par personne.\n 	Le nombre maximum de
 &nbsp\; participants au module est de 10.\n\n\n 	\n\n 	Description de la f
 aune\n 	Espèces à favoriser et protéger\n 	Conception d'abris\n\n\n
CATEGORIES:Formations
LOCATION:Pré Don\, Bois July\, 11\, 6800 Libramont-Chevigny\, 6800\, Wallo
 nie\, Belgique
X-APPLE-STRUCTURED-LOCATION;VALUE=URI;X-ADDRESS=Bois July\, 11\, 6800 Libra
 mont-Chevigny\, 6800\, Wallonie\, Belgique;X-APPLE-RADIUS=100;X-TITLE=Pré
  Don:geo:0,0
END:VEVENT
BEGIN:VTIMEZONE
TZID:Europe/Brussels
X-LIC-LOCATION:Europe/Brussels
BEGIN:DAYLIGHT
DTSTART:20220327T030000
TZOFFSETFROM:+0100
TZOFFSETTO:+0200
TZNAME:CEST
END:DAYLIGHT
END:VTIMEZONE
END:VCALENDAR